BEGIN:VCALENDAR
VERSION:2.0
PRODID:icalendar-ruby
CALSCALE:GREGORIAN
METHOD:PUBLISH
BEGIN:VTIMEZONE
TZID:Australia/Brisbane
BEGIN:STANDARD
DTSTART:19920301T020000
TZOFFSETFROM:+1100
TZOFFSETTO:+1000
TZNAME:AEST
END:STANDARD
END:VTIMEZONE
BEGIN:VEVENT
DTSTAMP:20260419T222503Z
UID:inspection_3003666
DTSTART;TZID=Australia/Brisbane:20260421T160000
DTEND;TZID=Australia/Brisbane:20260421T163000
CLASS:PUBLIC
CREATED:20260420T061121
DESCRIPTION: 
LAST-MODIFIED:20260420T061121
LOCATION:1 Sahara Road\, GLASS HOUSE MOUNTAINS QLD 4518\, Australia
SUMMARY:1 Sahara Road\,  Inspection
URL;VALUE=URI:http://www.edgeproperty.com.au/
END:VEVENT
END:VCALENDAR
